BEGIN:VCALENDAR
VERSION:2.0
PRODID:-//ChamberMaster//Event Calendar 2.0//EN
METHOD:PUBLISH
X-PUBLISHED-TTL:P3D
REFRESH-INTERVAL:P3D
CALSCALE:GREGORIAN
BEGIN:VEVENT
DTSTART:20251113T170000Z
DTEND:20251113T180000Z
X-MICROSOFT-CDO-ALLDAYEVENT:FALSE
SUMMARY:Anniversary Ribbon Cutting- Carpenter Insurance 95th Year
DESCRIPTION:Join us as we celebrate 95 years of serving the Okeechobee community! Carpenter Insurance invites you to our 95th Anniversary Celebration and Ribbon Cutting Ceremony on Thursday\, November 13\, 2025\, from 10:00 AM to 3:00 PM at our Okeechobee office.\n\nEnjoy complimentary finger foods and drinks while mingling with our team\, customers\, and members of the Okeechobee Chamber of Commerce.\n\nThe ribbon-cutting ceremony will take place at 12:00 PM\, and everyone is welcome to attend.\n\nIn celebration of this milestone\, we're giving customers the chance to win 1 of 37 prizes! Stop by our office anytime between now and November 13\, 2025\, to fill out a ticket for the drawing.\n\nWhile you're here\, grab one of our free goodie bags\, which include a Carpenter Insurance pen\, key chain\, and an informational card about our agency and services.\n\nWe're proud to have been part of the Okeechobee community for 95 years\, and we look forward to celebrating this incredible journey with you!
X-ALT-DESC;FMTTYPE=text/html:<p data-end="869" data-start="603" style="caret-color: rgb(0\, 0\, 0)\; color: rgb(0\, 0\, 0)\;">Join us as we celebrate&nbsp\;<strong data-end="676" data-start="627">95 years of serving the Okeechobee community!</strong>&nbsp\;Carpenter Insurance invites you to our&nbsp\;<strong data-end="776" data-start="716">95th Anniversary Celebration and Ribbon Cutting Ceremony</strong>&nbsp\;on&nbsp\;<strong data-end="811" data-start="780">Thursday\, November 13\, 2025</strong>\, from&nbsp\;<strong data-end="841" data-start="818">10:00 AM to 3:00 PM</strong>&nbsp\;at our Okeechobee office.</p>\n\n<p data-end="1012" data-start="871" style="caret-color: rgb(0\, 0\, 0)\; color: rgb(0\, 0\, 0)\;">Enjoy&nbsp\;<strong data-end="918" data-start="877">complimentary finger foods and drinks</strong>&nbsp\;while mingling with our team\, customers\, and members of the Okeechobee Chamber of Commerce.</p>\n\n<p data-end="1111" data-start="1014" style="caret-color: rgb(0\, 0\, 0)\; color: rgb(0\, 0\, 0)\;">The&nbsp\;<strong data-end="1073" data-start="1018">ribbon-cutting ceremony will take place at 12:00 PM</strong>\, and everyone is welcome to attend.</p>\n\n<p data-end="1319" data-start="1113" style="caret-color: rgb(0\, 0\, 0)\; color: rgb(0\, 0\, 0)\;">In celebration of this milestone\, we&rsquo\;re giving customers the chance to&nbsp\;<strong data-end="1207" data-start="1184">win 1 of 37 prizes!</strong>&nbsp\;Stop by our office anytime between <strong>now</strong><strong data-end="1278" data-start="1243">&nbsp\;and November 13\, 2025</strong>\, to fill out a ticket for the drawing.</p>\n\n<p data-end="1488" data-start="1321" style="caret-color: rgb(0\, 0\, 0)\; color: rgb(0\, 0\, 0)\;">While you&rsquo\;re here\, grab one of our&nbsp\;<strong data-end="1376" data-start="1356">free goodie bags</strong>\, which include a Carpenter Insurance pen\, key chain\, and an informational card about our agency and services.</p>\n\n<p data-end="1632" data-start="1490" style="caret-color: rgb(0\, 0\, 0)\; color: rgb(0\, 0\, 0)\;">We&rsquo\;re proud to have been part of the Okeechobee community for 95 years\, and we look forward to celebrating this incredible journey with you!</p>\n
LOCATION:3960 SE 18th Terrace Okeechobee\, Fl. 34974
UID:e.1131.22420
SEQUENCE:3
DTSTAMP:20260423T160807Z
URL:https://business.okeechobeebusiness.com/events/details/anniversary-ribbon-cutting-carpenter-insurance-95th-year-22420
END:VEVENT

END:VCALENDAR
