BEGIN:VCALENDAR
VERSION:2.0
PRODID:-//ChamberMaster//Event Calendar 2.0//EN
METHOD:PUBLISH
X-PUBLISHED-TTL:P3D
REFRESH-INTERVAL:P3D
CALSCALE:GREGORIAN
BEGIN:VEVENT
DTSTART:20251110T170000Z
DTEND:20251110T180000Z
X-MICROSOFT-CDO-ALLDAYEVENT:FALSE
SUMMARY:Anniversary Ribbon Cutting- Countryside Florist's 35th Year
DESCRIPTION:Countryside Florist is turning 35!  \n\nJoin us as we celebrate 35 years of flowers\, friendship\, and family in Okeechobee!\n\nEnjoy a two-day celebration filled with creativity\, community\, and holiday cheer.\n\n  Monday\, November 10th\n\n  Ribbon Cutting at 12:00 PM\n\n  Christmas Open House continues through Tuesday\, November 11th!\n\nExperience festive fun\, including:\n\n  Christmas Wreath Demonstrations\n\n  Create-your-own Bouquet Bar\n\n  Coffee & Dessert Bar\n\n  Holiday Showroom + Antiques Deals\n\nMeet our talented floral design team   each with over 30 years of experience   and get inspired by their favorite holiday tips and trends!\n\nWe couldn't have made it 35 years without YOU   our loyal customers\, friends\, and community. Come celebrate with us!
X-ALT-DESC;FMTTYPE=text/html:<p data-end="270" data-start="230">&#10024\; Countryside Florist is turning 35! &#10024\;</p>\n\n<p data-end="444" data-start="272">Join us as we celebrate <strong data-end="358" data-start="296">35 years of flowers\, friendship\, and family in Okeechobee!</strong><br data-end="361" data-start="358" />\nEnjoy a two-day celebration filled with creativity\, community\, and holiday cheer.</p>\n\n<p data-end="512" data-start="446">&#128197\; <strong data-end="474" data-start="449">Monday\, November 10th</strong><br data-end="477" data-start="474" />\n&#127872\; <strong data-end="510" data-start="480">Ribbon Cutting at 12:00 PM</strong></p>\n\n<p data-end="589" data-start="514">&#128144\; <strong data-end="541" data-start="517">Christmas Open House</strong> continues through <strong data-end="587" data-start="560">Tuesday\, November 11th!</strong></p>\n\n<p data-end="761" data-start="591">Experience festive fun\, including:<br data-end="628" data-start="625" />\n&#127807\; Christmas Wreath Demonstrations<br data-end="665" data-start="662" />\n&#127800\; Create-your-own Bouquet Bar<br data-end="698" data-start="695" />\n&#9749\; Coffee &amp\; Dessert Bar<br data-end="723" data-start="720" />\n&#127876\; Holiday Showroom + Antiques Deals</p>\n\n<p data-end="903" data-start="763">Meet our talented floral design team &mdash\; each with over 30 years of experience &mdash\; and get inspired by their favorite holiday tips and trends!</p>\n\n<p data-end="1026" data-start="905">We couldn&rsquo\;t have made it 35 years without YOU &mdash\; our loyal customers\, friends\, and community. Come celebrate with us! &#128154\;</p>\n
LOCATION:Countryside Florist 201 SW 5th Ave\, Okeechobee\, FL\, United States\, Florida
UID:e.1131.22419
SEQUENCE:3
DTSTAMP:20260423T160951Z
URL:https://business.okeechobeebusiness.com/events/details/anniversary-ribbon-cutting-countryside-florist-s-35th-year-22419
END:VEVENT

END:VCALENDAR
