BEGIN:VCALENDAR
VERSION:2.0
PRODID:-//ChamberMaster//Event Calendar 2.0//EN
METHOD:PUBLISH
X-PUBLISHED-TTL:P3D
REFRESH-INTERVAL:P3D
CALSCALE:GREGORIAN
BEGIN:VEVENT
DTSTART:20250801T160000Z
DTEND:20250801T160000Z
X-MICROSOFT-CDO-ALLDAYEVENT:FALSE
SUMMARY:Anniversary Ribbon Cutting of Buxton Okeechobee Funeral Home
DESCRIPTION:You're invited to the Ribbon Cutting Ceremony of Buxton Okeechobee Funeral Home on Friday\, August 1\, 2025\, at 12:00 PM\, as we unveil a total rebrand in honor of 45 years of compassionate service to the Okeechobee community.\n\n\n\nThis special event marks a new chapter for a long-standing local business dedicated to supporting families with care\, dignity\, and respect. Join us as we celebrate this exciting milestone with light refreshments\, tours of the updated facility\, and the opportunity to meet the dedicated team behind the new look.\n\n\n\nLocation: 400 N Parrott Ave\, Okeechobee\, FL\n\nTime: Ribbon Cutting at 12:00 PM \n\n\n\nWe hope to see you there as we honor the past and celebrate the future!
X-ALT-DESC;FMTTYPE=text/html:<div style="text-align: justify\;">You&#39\;re invited to the Ribbon Cutting Ceremony of Buxton Okeechobee Funeral Home on Friday\, August 1\, 2025\, at 12:00 PM\, as we unveil a total rebrand in honor of 45&nbsp\;years of compassionate service to the Okeechobee community.<br />\n<br />\nThis special event marks a new chapter for a long-standing local business dedicated to supporting families with care\, dignity\, and respect. Join us as we celebrate this exciting milestone with light refreshments\, tours of the updated facility\, and the opportunity to meet the dedicated team behind the new look.<br />\n<br />\nLocation: 400 N Parrott Ave\, Okeechobee\, FL<br />\nTime: Ribbon Cutting at 12:00 PM&nbsp\;<br />\n<br />\nWe hope to see you there as we honor the past and celebrate the future!</div>\n
LOCATION:Buxton Okeechobee Funeral Home 400 N Parrott Ave.
UID:e.1131.22253
SEQUENCE:3
DTSTAMP:20260423T202753Z
URL:https://business.okeechobeebusiness.com/events/details/anniversary-ribbon-cutting-of-buxton-okeechobee-funeral-home-22253
END:VEVENT

END:VCALENDAR
