BEGIN:VCALENDAR
VERSION:2.0
PRODID:-//ChamberMaster//Event Calendar 2.0//EN
METHOD:PUBLISH
X-PUBLISHED-TTL:P3D
REFRESH-INTERVAL:P3D
CALSCALE:GREGORIAN
BEGIN:VEVENT
DTSTART:20250919T160000Z
DTEND:20250919T170000Z
X-MICROSOFT-CDO-ALLDAYEVENT:FALSE
SUMMARY:AT&T Grand Opening
DESCRIPTION:Grand Opening Celebration   AT&T  \n\nJoin us as we welcome AT&T to the Okeechobee community with a special Grand Opening & Ribbon Cutting Ceremony!\n\n  Date: Friday\, September 19\n\n  Time: 12:00 PM\n\n  Location: 3112 US HWY 441 S Ste. 1 Okeechobee\, FL. 34974\n\nCome out to celebrate\, meet the AT&T team\, and check out the latest in wireless services\, devices\, and technology. Enjoy networking\, light refreshments\, and the opportunity to support one of our newest Chamber members.\n\nWe look forward to seeing you there!
X-ALT-DESC;FMTTYPE=text/html:<p data-end="149" data-start="105">&#127881\; <strong data-end="144" data-start="108">Grand Opening Celebration &ndash\; AT&amp\;T</strong> &#127881\;</p>\n\n<p data-end="271" data-start="151">Join us as we welcome <strong data-end="181" data-start="173">AT&amp\;T</strong> to the Okeechobee community with a special <strong data-end="268" data-start="225">Grand Opening &amp\; Ribbon Cutting Ceremony</strong>!</p>\n\n<p data-end="381" data-start="273">&#128197\; <strong data-end="285" data-start="276">Date:</strong> Friday\, September 19<br data-end="311" data-start="308" />\n&#128347\; <strong data-end="323" data-start="314">Time:</strong> 12:00 PM<br data-end="335" data-start="332" />\n&#128205\; <strong data-end="351" data-start="338">Location:</strong> 3112 US HWY 441 S Ste. 1 Okeechobee\, FL. 34974</p>\n\n<p data-end="603" data-start="383">Come out to celebrate\, meet the AT&amp\;T team\, and check out the latest in wireless services\, devices\, and technology. Enjoy networking\, light refreshments\, and the opportunity to support one of our newest Chamber members.</p>\n\n<p data-end="643" data-start="605">We look forward to seeing you there!</p>\n<br style="color: rgb(51\, 51\, 51)\; font-family: sans-serif\, Arial\, Verdana\, &quot\;Trebuchet MS&quot\;\; font-size: 13px\;" />\n&nbsp\;
LOCATION:3112 US HWY 441 S Ste. 1 Okeechobee\, FL. 34974
UID:e.1131.22266
SEQUENCE:3
DTSTAMP:20260423T185405Z
URL:https://business.okeechobeebusiness.com/events/details/at-t-grand-opening-22266
END:VEVENT

END:VCALENDAR
