BEGIN:VCALENDAR
VERSION:2.0
PRODID:-//ChamberMaster//Event Calendar 2.0//EN
METHOD:PUBLISH
X-PUBLISHED-TTL:P3D
REFRESH-INTERVAL:P3D
CALSCALE:GREGORIAN
BEGIN:VEVENT
DTSTART:20240620T160000Z
DTEND:20240621T170000Z
X-MICROSOFT-CDO-ALLDAYEVENT:FALSE
SUMMARY:Bee Savvy Training - Motivational & Public Speaking
DESCRIPTION:Our next Bee Savvy course is on Motivational and Public Speaking.  This course can be a transformative experience that equips you with essential communication skills. \n\nThe course typically covers many different topics such as:  Overcoming Fear: Techniques to confront and manage anxiety related to public speaking.  Effective Communication\, how to choose compelling topics\, how to find your unique style of presenting\, using visual aids\, your body language and so much more.  By the end of the course\, you will have the tools and confidence to deliver powerful\, engaging\, and motivational speeches in various settings.  \n\nThis course is scheduled for Thursday\, June 20th from 12 noon to 1:00pm and Friday\, June 21st from 12 noon to 1:00pm.  This is a 2-hour course\, and you will need to attend both days in order to receive your certificate.  \n\nYou can register online at www.okeechobeebusiness.com and you will find the course listed under events.
X-ALT-DESC;FMTTYPE=text/html:<span style="font-size:12.0pt\;">Our next Bee Savvy course is on Motivational and Public Speaking.&nbsp\; This course can be a transformative experience that equips you with essential communication skills.&nbsp\;</span><br />\n<span style="font-size:12.0pt\;">The course typically covers many different topics such as:&nbsp\; Overcoming Fear: Techniques to confront and manage anxiety related to public speaking.&nbsp\; Effective Communication\, how to choose compelling topics\, how to find your unique style of presenting\, using visual aids\, your body language and so much more.&nbsp\; By the end of the course\, you will have the tools and confidence to deliver powerful\, engaging\, and motivational speeches in various settings.&nbsp\;&nbsp\;</span><br />\n<span style="font-size:12.0pt\;">This course is scheduled for Thursday\, June 20th from 12 noon to 1:00pm and Friday\, June 21st from 12 noon to 1:00pm.&nbsp\; This is a 2-hour course\, and you will need to attend both days in order to receive your certificate.&nbsp\;&nbsp\;</span><br />\n<span style="font-size:12.0pt\;">You can register online at www.okeechobeebusiness.com and you will find the course listed under events.</span><br />\n&nbsp\;<br />\n&nbsp\;
LOCATION:Chamber Conference Room
UID:e.1131.21959
SEQUENCE:3
DTSTAMP:20260423T101641Z
URL:https://business.okeechobeebusiness.com/events/details/bee-savvy-training-motivational-public-speaking-21959
END:VEVENT

END:VCALENDAR
