BEGIN:VCALENDAR
VERSION:2.0
PRODID:-//ChamberMaster//Event Calendar 2.0//EN
METHOD:PUBLISH
X-PUBLISHED-TTL:P3D
REFRESH-INTERVAL:P3D
CALSCALE:GREGORIAN
BEGIN:VEVENT
DTSTART:20251120T230000Z
DTEND:20251121T000000Z
X-MICROSOFT-CDO-ALLDAYEVENT:FALSE
SUMMARY:City Planning Board Meeting
DESCRIPTION:City of Okeechobee Planning Board Meeting
X-ALT-DESC;FMTTYPE=text/html:City of Okeechobee Planning Board Meeting
LOCATION:City Hall 55 SE 3rd AVE\, Rm 200 Okeechobee\, FL 34974
UID:e.1131.22418
SEQUENCE:3
DTSTAMP:20260423T155016Z
URL:https://business.okeechobeebusiness.com/events/details/city-planning-board-meeting-11-20-2025-22418
END:VEVENT

END:VCALENDAR
