BEGIN:VCALENDAR
VERSION:2.0
PRODID:-//ChamberMaster//Event Calendar 2.0//EN
METHOD:PUBLISH
X-PUBLISHED-TTL:P3D
REFRESH-INTERVAL:P3D
CALSCALE:GREGORIAN
BEGIN:VEVENT
DTSTART:20260314T180000Z
DTEND:20260315T210000Z
X-MICROSOFT-CDO-ALLDAYEVENT:FALSE
SUMMARY:COWTOWN RODEO
DESCRIPTION:Join us for the 75th Annual PRCA Okeechobee Cowtown Rodeo!\n\nBring your family and friends to see world class circuit riders right in Okeechobee's historic grandstand arena.\n\nTickets for everyone ages 13 and up are available for $20 if ordered online. Tickets purchased at the door are $25.\n\nKids ages 6-12 are $10 and are available for purchase at the door. Children ages 5 and under are FREE!\n\nSeats for this action packed\, fun-filled day for the entire family are first-come\, first served\, so don't wait!\n\n \n\n \n\nParking is $5.00 per vehicle with 100% of the proceeds to benefit our local students\n\nHandy tip - bring CASH for concessions. All proceeds for concession sales benefit local Junior Cattlemen and FFA students.
X-ALT-DESC;FMTTYPE=text/html:<div class="xdj266r x14z9mp xat24cr x1lziwak x1vvkbs" style="overflow-wrap: break-word\; margin-inline: 0px\; margin-bottom: 0px\; margin-top: 0px\; font-family: &quot\;Segoe UI Historic&quot\;\, &quot\;Segoe UI&quot\;\, Helvetica\, Arial\, sans-serif\; color: rgb(8\, 8\, 9)\; font-size: 15px\;">Join us for the 75th Annual PRCA Okeechobee Cowtown Rodeo!</div>\n\n<div class="x14z9mp xat24cr x1lziwak x1vvkbs xtlvy1s" style="overflow-wrap: break-word\; margin-top: 0.5em\; margin-inline: 0px\; margin-bottom: 0px\; font-family: &quot\;Segoe UI Historic&quot\;\, &quot\;Segoe UI&quot\;\, Helvetica\, Arial\, sans-serif\; color: rgb(8\, 8\, 9)\; font-size: 15px\;">Bring your family and friends to see world class circuit riders right in Okeechobee&#39\;s historic grandstand arena.</div>\n\n<div class="x14z9mp xat24cr x1lziwak x1vvkbs xtlvy1s" style="overflow-wrap: break-word\; margin-top: 0.5em\; margin-inline: 0px\; margin-bottom: 0px\; font-family: &quot\;Segoe UI Historic&quot\;\, &quot\;Segoe UI&quot\;\, Helvetica\, Arial\, sans-serif\; color: rgb(8\, 8\, 9)\; font-size: 15px\;">Tickets for everyone ages 13 and up are available for $20 if ordered online. Tickets purchased at the door are $25.</div>\n\n<div class="x14z9mp xat24cr x1lziwak x1vvkbs xtlvy1s" style="overflow-wrap: break-word\; margin-top: 0.5em\; margin-inline: 0px\; margin-bottom: 0px\; font-family: &quot\;Segoe UI Historic&quot\;\, &quot\;Segoe UI&quot\;\, Helvetica\, Arial\, sans-serif\; color: rgb(8\, 8\, 9)\; font-size: 15px\;">Kids ages 6-12 are $10 and are available for purchase at the door. Children ages 5 and under are FREE!</div>\n\n<div class="x14z9mp xat24cr x1lziwak x1vvkbs xtlvy1s" style="overflow-wrap: break-word\; margin-top: 0.5em\; margin-inline: 0px\; margin-bottom: 0px\; font-family: &quot\;Segoe UI Historic&quot\;\, &quot\;Segoe UI&quot\;\, Helvetica\, Arial\, sans-serif\; color: rgb(8\, 8\, 9)\; font-size: 15px\;">Seats for this action packed\, fun-filled day for the entire family are first-come\, first served\, so don&#39\;t wait!</div>\n\n<div class="x14z9mp xat24cr x1lziwak x1vvkbs xtlvy1s" style="overflow-wrap: break-word\; margin-top: 0.5em\; margin-inline: 0px\; margin-bottom: 0px\; font-family: &quot\;Segoe UI Historic&quot\;\, &quot\;Segoe UI&quot\;\, Helvetica\, Arial\, sans-serif\; color: rgb(8\, 8\, 9)\; font-size: 15px\;">&nbsp\;</div>\n\n<div class="x14z9mp xat24cr x1lziwak x1vvkbs xtlvy1s" style="overflow-wrap: break-word\; margin-top: 0.5em\; margin-inline: 0px\; margin-bottom: 0px\; font-family: &quot\;Segoe UI Historic&quot\;\, &quot\;Segoe UI&quot\;\, Helvetica\, Arial\, sans-serif\; color: rgb(8\, 8\, 9)\; font-size: 15px\;">&nbsp\;</div>\n\n<div class="x14z9mp xat24cr x1lziwak x1vvkbs xtlvy1s" style="overflow-wrap: break-word\; margin-top: 0.5em\; margin-inline: 0px\; margin-bottom: 0px\; font-family: &quot\;Segoe UI Historic&quot\;\, &quot\;Segoe UI&quot\;\, Helvetica\, Arial\, sans-serif\; color: rgb(8\, 8\, 9)\; font-size: 15px\;">Parking is $5.00 per vehicle with 100% of the proceeds to benefit our local students</div>\n\n<div class="x14z9mp xat24cr x1lziwak x1vvkbs xtlvy1s" style="overflow-wrap: break-word\; margin-top: 0.5em\; margin-inline: 0px\; margin-bottom: 0px\; font-family: &quot\;Segoe UI Historic&quot\;\, &quot\;Segoe UI&quot\;\, Helvetica\, Arial\, sans-serif\; color: rgb(8\, 8\, 9)\; font-size: 15px\;">Handy tip - bring CASH for concessions. All proceeds for concession sales benefit local Junior Cattlemen and FFA students.</div>\n
LOCATION:1885 HWY 441 North\, Okeechobee\, FL\, United States\, Florida 34972 Right across the street from HCA Raulerson
UID:e.1131.22523
SEQUENCE:3
DTSTAMP:20260423T101733Z
URL:https://business.okeechobeebusiness.com/events/details/cowtown-rodeo-22523
END:VEVENT

END:VCALENDAR
