BEGIN:VCALENDAR
VERSION:2.0
PRODID:-//ChamberMaster//Event Calendar 2.0//EN
METHOD:PUBLISH
X-PUBLISHED-TTL:P3D
REFRESH-INTERVAL:P3D
CALSCALE:GREGORIAN
BEGIN:VEVENT
DTSTART:20251103T140000Z
DTEND:20251103T150000Z
X-MICROSOFT-CDO-ALLDAYEVENT:FALSE
SUMMARY:Culture of Collaborations Table Talk
DESCRIPTION:
X-ALT-DESC;FMTTYPE=text/html:
LOCATION:
UID:e.1131.22423
SEQUENCE:3
DTSTAMP:20260423T160653Z
URL:https://business.okeechobeebusiness.com/events/details/culture-of-collaborations-table-talk-22423
END:VEVENT

END:VCALENDAR
