BEGIN:VCALENDAR
VERSION:2.0
PRODID:-//ChamberMaster//Event Calendar 2.0//EN
METHOD:PUBLISH
X-PUBLISHED-TTL:P3D
REFRESH-INTERVAL:P3D
CALSCALE:GREGORIAN
BEGIN:VEVENT
DTSTART:20251231T170000Z
DTEND:20260128T193000Z
X-MICROSOFT-CDO-ALLDAYEVENT:FALSE
SUMMARY:Donations for White Elephant Sale
DESCRIPTION:Accepting donations on Wednesdays 12pm -2:30pm or call for an appointment. The Sacred Heart Women's Club will be having a White Elephant Sale on Saturday\, January 31st 9am -2pm. We are accepting donations of gently used household items. Items must be clean\, in good condition and in working order. We are unable to accept clothing\, shoes or books.
X-ALT-DESC;FMTTYPE=text/html:Accepting donations on Wednesdays 12pm -2:30pm or call for an appointment. The Sacred Heart Women&rsquo\;s Club will be having a White Elephant Sale on Saturday\, January 31st 9am -2pm. We are accepting donations of gently used household items. Items must be clean\, in good condition and in working order. We are unable to accept clothing\, shoes or books.
LOCATION:901 SW sixth St\, Okeechobee\, FL
UID:e.1131.22444
SEQUENCE:3
DTSTAMP:20260419T163126Z
URL:https://business.okeechobeebusiness.com/events/details/donations-for-white-elephant-sale-22444
END:VEVENT

END:VCALENDAR
