BEGIN:VCALENDAR
VERSION:2.0
PRODID:-//ChamberMaster//Event Calendar 2.0//EN
METHOD:PUBLISH
X-PUBLISHED-TTL:P3D
REFRESH-INTERVAL:P3D
CALSCALE:GREGORIAN
BEGIN:VEVENT
DTSTART:20260311T180000Z
DTEND:20260311T200000Z
X-MICROSOFT-CDO-ALLDAYEVENT:FALSE
SUMMARY:Estate Planning Seminar with Lulich & Attorneys
DESCRIPTION:Discover how to protect yourself\, your loved ones\, and your assets\, at our upcoming live estate planning workshop: Join top estate planning and elder law attorneys Jennifer R. Denorio and Shannon Norvig as they break down the rules\, threats\, and options you face when protecting your legacy. You will also learn... How to protect your assets from the high cost of long-term care and other threats How to avoid the delays\, frustration\, and expense of probate The key planning documents everyone needs and why Eligibility requirements for Medicaid and other sources of financial assistance to pay for long-term care The advantages of trusts and the planning objectives they can help you achieve How to minimize or avoid estate and other taxes Prepare yourself and your loved ones for long-term success with this FREE Workshop. * Light bites will be provided
X-ALT-DESC;FMTTYPE=text/html:Discover how to protect yourself\, your loved ones\, and your assets\, at our upcoming live estate planning workshop: Join top estate planning and elder law attorneys Jennifer R. Denorio and Shannon Norvig as they break down the rules\, threats\, and options you face when protecting your legacy. You will also learn... How to protect your assets from the high cost of long-term care and other threats How to avoid the delays\, frustration\, and expense of probate The key planning documents everyone needs&mdash\;and why Eligibility requirements for Medicaid and other sources of financial assistance to pay for long-term care The advantages of trusts and the planning objectives they can help you achieve How to minimize or avoid estate and other taxes Prepare yourself and your loved ones for long-term success with this FREE Workshop. * Light bites will be provided
LOCATION:IRSC Williamson Conference Center 2229 NW 9th Ave Okeechobee\, FL 34972
UID:e.1131.22526
SEQUENCE:3
DTSTAMP:20260423T111832Z
URL:https://business.okeechobeebusiness.com/events/details/estate-planning-seminar-with-lulich-attorneys-22526
END:VEVENT

END:VCALENDAR
