BEGIN:VCALENDAR
VERSION:2.0
PRODID:-//ChamberMaster//Event Calendar 2.0//EN
METHOD:PUBLISH
X-PUBLISHED-TTL:P3D
REFRESH-INTERVAL:P3D
CALSCALE:GREGORIAN
BEGIN:VEVENT
DTSTART:20260127T170000Z
DTEND:20260127T180000Z
X-MICROSOFT-CDO-ALLDAYEVENT:FALSE
SUMMARY:Get Your Local Business on Google Search and Maps Workshop
DESCRIPTION:Google Workshop #1   \n\n\n\nAttention\, local business owners!   \n\n\n\nIn today's digital age\, being visible online is crucial!    That's why we're thrilled to announce our upcoming Google Workshop - "Optimizing Your Business Presence Online"!  \n\n\n\n  Showing up when customers are searching online is more important than ever. Ensure your business is easily discoverable with accurate\, up-to-date information on Google Search and Google Maps\, regardless of the device your customers use!    \n\n\n\nJoin us in this hands-on workshop where you'll learn the ins and outs of creating and managing a Google Business Profile\, from start to finish.    Gain the skills you need to boost your online presence and connect with potential customers effectively!\n\n\n\n  Save the date:\n\n   Tuesday\, January 27\, 2026\n\n  12:00 - 1:00 PM\n\n  Chamber of Commerce of Okeechobee County [55 S Parrott Ave.]\n\n\n\nReady to take your business to the next level?   Don't miss out - secure your spot now!\n\n\n\n  #GoogleWorkshop #DigitalPresence #LocalBusinessSuccess
X-ALT-DESC;FMTTYPE=text/html:&#127760\;&#10024\; Google Workshop #1 &#128640\;&#10024\;<br />\n<br />\nAttention\, local business owners! &#127970\;&#10024\;<br />\n<br />\nIn today&#39\;s digital age\, being visible online is crucial! &#128241\;&#128187\; That&#39\;s why we&#39\;re thrilled to announce our upcoming Google Workshop - &quot\;Optimizing Your Business Presence Online&quot\;! &#127775\;<br />\n<br />\n&#128269\; Showing up when customers are searching online is more important than ever. Ensure your business is easily discoverable with accurate\, up-to-date information on Google Search and Google Maps\, regardless of the device your customers use! &#127760\;&#128506\;&#65039\;<br />\n<br />\nJoin us in this hands-on workshop where you&#39\;ll learn the ins and outs of creating and managing a Google Business Profile\, from start to finish. &#128640\;&#128188\; Gain the skills you need to boost your online presence and connect with potential customers effectively!<br />\n<br />\n&#128197\; Save the date:<br />\n&#128467\;&#65039\; Tuesday\, January 27\, 2026<br />\n&#9200\; 12:00 - 1:00 PM<br />\n&#128205\; Chamber of Commerce of Okeechobee County [55 S Parrott Ave.]<br />\n<br />\nReady to take your business to the next level? &#128640\; Don&#39\;t miss out - secure your spot now!<br />\n<br />\n&#10024\; #GoogleWorkshop #DigitalPresence #LocalBusinessSuccess
LOCATION:Chamber of Commerce of Okeechobee County 55 S Parrott Ave. Okeechobee\, FL 34972
UID:e.1131.22475
SEQUENCE:3
DTSTAMP:20260419T163312Z
URL:https://business.okeechobeebusiness.com/events/details/get-your-local-business-on-google-search-and-maps-workshop-22475
END:VEVENT

END:VCALENDAR
