BEGIN:VCALENDAR
VERSION:2.0
PRODID:-//ChamberMaster//Event Calendar 2.0//EN
METHOD:PUBLISH
X-PUBLISHED-TTL:P3D
REFRESH-INTERVAL:P3D
CALSCALE:GREGORIAN
BEGIN:VEVENT
DTSTART:20260107T163000Z
DTEND:20260107T170000Z
X-MICROSOFT-CDO-ALLDAYEVENT:FALSE
SUMMARY:Grand Opening- Blinged Nail Studio
DESCRIPTION:Event Description\n\nJoin us as we celebrate the Grand Opening of Blinged Nail Boutique with a Chamber Ribbon Cutting! This exciting new nail salon is bringing style\, creativity\, and a little extra sparkle to downtown Okeechobee.\n\nStop by to meet the Blinged Nail Boutique team\, tour the new space\, and learn more about the services they offer. Whether you're looking for classic nail care or bold\, blinged-out designs\, this boutique is ready to help you look and feel your best.\n\nCommunity members\, Chamber members\, and local leaders are all invited to come out\, show support for a new small business\, and help us give Blinged Nail Boutique a warm Okeechobee welcome.
X-ALT-DESC;FMTTYPE=text/html:<h2 data-end="373" data-start="348">&#128133\; Event Description</h2>\n\n<p data-end="586" data-start="374">Join us as we celebrate the <strong data-end="444" data-start="402">Grand Opening of Blinged Nail Boutique</strong> with a Chamber Ribbon Cutting! This exciting new nail salon is bringing style\, creativity\, and a little extra sparkle to downtown Okeechobee.</p>\n\n<p data-end="836" data-start="588">Stop by to meet the Blinged Nail Boutique team\, tour the new space\, and learn more about the services they offer. Whether you&rsquo\;re looking for classic nail care or bold\, blinged-out designs\, this boutique is ready to help you look and feel your best.</p>\n\n<p data-end="1025" data-start="838">Community members\, Chamber members\, and local leaders are all invited to come out\, show support for a new small business\, and help us give Blinged Nail Boutique a warm Okeechobee welcome.</p>\n
LOCATION:Location Blinged Nail Boutique 207 NE Park St\, Suite B Okeechobee\, FL 34972
UID:e.1131.22447
SEQUENCE:3
DTSTAMP:20260419T163123Z
URL:https://business.okeechobeebusiness.com/events/details/grand-opening-blinged-nail-studio-22447
END:VEVENT

END:VCALENDAR
