BEGIN:VCALENDAR
VERSION:2.0
PRODID:-//ChamberMaster//Event Calendar 2.0//EN
METHOD:PUBLISH
X-PUBLISHED-TTL:P3D
REFRESH-INTERVAL:P3D
CALSCALE:GREGORIAN
BEGIN:VEVENT
DTSTART:20260114T161500Z
DTEND:20260114T170000Z
X-MICROSOFT-CDO-ALLDAYEVENT:FALSE
SUMMARY:Grand Opening- Mission United
DESCRIPTION:Join us as we celebrate the Grand Opening of Mission United Okeechobee & St. Lucie at Our Village Okeechobee. This important new resource is already strengthening the resilience and sustainability of vulnerable Veterans\, and their families\, right here in our community.\n\nThe morning will begin with an informational session at 10:30 AM\, providing attendees with an overview of MISSION UNITED's services\, followed by a Chamber-style Grand Opening and Ribbon Cutting at 11:15 AM.\n\nMISSION UNITED \, is a United Way community-based\, collective impact initiative\, powered by Our Village Okeechobee. Their Veteran-peer Care Coordinators help individual Veterans and their families navigate the often complex and fragmented system of care to identify and more easily access basic needs assistance\, Veterans' benefits\, housing support\, healthcare\, employment resources\, transportation\, and more.\n\nMISSION UNITED  Okeechobee & St. Lucie partners with human\, social and Veteran resources at the national\, state and local levels.  Together they proudly serve military Servicemembers\, Veterans\, and their families in Okeechobee and St. Lucie counties and around the rim of Florida's big lake.  \n\n  Need navigation assistance? Call 772.782.1939 or email MISSIONUNITED@MUOSL.Org. to connect with Mission United.
X-ALT-DESC;FMTTYPE=text/html:<div data-olk-copy-source="MessageBody" style="border: 0px\; font-variant-numeric: inherit\; font-variant-east-asian: inherit\; font-variant-alternates: inherit\; font-variant-position: inherit\; font-variant-emoji: inherit\; font-stretch: inherit\; font-size: 12pt\; line-height: 1.38\; font-family: Aptos\, Aptos_EmbeddedFont\, Aptos_MSFontService\, Calibri\, Helvetica\, sans-serif\, serif\, EmojiFont\; font-optical-sizing: inherit\; font-size-adjust: inherit\; font-kerning: inherit\; font-feature-settings: inherit\; font-variation-settings: inherit\; font-language-override: inherit\; margin: 0px 0px 8pt\; padding: 0px\; vertical-align: baseline\; color: black\;">Join us as we celebrate the Grand Opening of&nbsp\;<b>Mission United Okeechobee&nbsp\;&amp\; St. Lucie</b>&nbsp\;at Our Village Okeechobee. This important new resource is already strengthening the resilience and sustainability of vulnerable Veterans\, and their families\, right here in our community.</div>\n\n<div style="border: 0px\; font-variant-numeric: inherit\; font-variant-east-asian: inherit\; font-variant-alternates: inherit\; font-variant-position: inherit\; font-variant-emoji: inherit\; font-stretch: inherit\; font-size: 12pt\; line-height: 1.38\; font-family: Aptos\, Aptos_EmbeddedFont\, Aptos_MSFontService\, Calibri\, Helvetica\, sans-serif\, serif\, EmojiFont\; font-optical-sizing: inherit\; font-size-adjust: inherit\; font-kerning: inherit\; font-feature-settings: inherit\; font-variation-settings: inherit\; font-language-override: inherit\; margin: 0px 0px 8pt\; padding: 0px\; vertical-align: baseline\; color: black\;">The morning will begin with&nbsp\;<b>an&nbsp\;informational session at 10:30 AM</b>\, providing attendees with an overview of MISSION UNITED&rsquo\;s services\, followed by a&nbsp\;<b>Chamber-style Grand Opening and Ribbon Cutting at 11:15 AM</b>.</div>\n\n<div style="border: 0px\; font-variant-numeric: inherit\; font-variant-east-asian: inherit\; font-variant-alternates: inherit\; font-variant-position: inherit\; font-variant-emoji: inherit\; font-stretch: inherit\; font-size: 12pt\; line-height: 1.38\; font-family: Aptos\, Aptos_EmbeddedFont\, Aptos_MSFontService\, Calibri\, Helvetica\, sans-serif\, serif\, EmojiFont\; font-optical-sizing: inherit\; font-size-adjust: inherit\; font-kerning: inherit\; font-feature-settings: inherit\; font-variation-settings: inherit\; font-language-override: inherit\; margin: 0px 0px 8pt\; padding: 0px\; vertical-align: baseline\; color: black\;"><b>MISSION UNITED&trade\;</b>\, is a United Way community-based\, collective impact initiative\, powered by Our Village Okeechobee. Their Veteran-peer Care Coordinators help individual Veterans and their families navigate the often complex and fragmented system of care to identify and more easily access basic needs assistance\, Veterans&rsquo\; benefits\, housing support\, healthcare\, employment resources\, transportation\, and more.</div>\n\n<div style="border: 0px\; font-variant-numeric: inherit\; font-variant-east-asian: inherit\; font-variant-alternates: inherit\; font-variant-position: inherit\; font-variant-emoji: inherit\; font-stretch: inherit\; font-size: 12pt\; line-height: 1.38\; font-family: Aptos\, Aptos_EmbeddedFont\, Aptos_MSFontService\, Calibri\, Helvetica\, sans-serif\, serif\, EmojiFont\; font-optical-sizing: inherit\; font-size-adjust: inherit\; font-kerning: inherit\; font-feature-settings: inherit\; font-variation-settings: inherit\; font-language-override: inherit\; margin: 0px 0px 8pt\; padding: 0px\; vertical-align: baseline\; color: black\;">MISSION UNITED&trade\; Okeechobee &amp\; St. Lucie partners with human\, social and Veteran resources at the national\, state and local levels.&nbsp\; Together they proudly serve military Servicemembers\, Veterans\, and their families in&nbsp\;<b>Okeechobee and St. Lucie</b>&nbsp\;counties and around the&nbsp\;<b>rim of Florida&rsquo\;s big lake</b>. &nbsp\;</div>\n\n<div style="border: 0px\; font-variant-numeric: inherit\; font-variant-east-asian: inherit\; font-variant-alternates: inherit\; font-variant-position: inherit\; font-variant-emoji: inherit\; font-stretch: inherit\; font-size: 12pt\; line-height: 1.38\; font-family: Aptos\, Aptos_EmbeddedFont\, Aptos_MSFontService\, Calibri\, Helvetica\, sans-serif\, serif\, EmojiFont\; font-optical-sizing: inherit\; font-size-adjust: inherit\; font-kerning: inherit\; font-feature-settings: inherit\; font-variation-settings: inherit\; font-language-override: inherit\; margin: 0px 0px 8pt\; padding: 0px\; vertical-align: baseline\; color: rgb(36\, 36\, 36)\;"><span style="border: 0px\; font: inherit\; margin: 0px\; padding: 0px\; vertical-align: baseline\; color: black\;">&#128222\;&nbsp\;<b>Need navigation assistance?</b>&nbsp\;Call 772.782.1939 or email&nbsp\;</span><span style="border: 0px\; font: inherit\; margin: 0px\; padding: 0px\; vertical-align: baseline\; color: rgb(70\, 120\, 134)\;"><b><u><a data-linkindex="0" href="mailto:MISSIONUNITED@MUOSL.Org" id="OWA864eef15-c6ad-0cfa-dfcb-6e07d75264b1" style="border: 0px\; font: inherit\; margin: 0px\; padding: 0px\; vertical-align: baseline\; color: rgb(70\, 120\, 134)\;" title="mailto:MISSIONUNITED@MUOSL.Org">MISSIONUNITED@MUOSL.Org</a></u></b></span><span style="border: 0px\; font: inherit\; margin: 0px\; padding: 0px\; vertical-align: baseline\; color: black\;"><b>.</b>&nbsp\;to connect with Mission United.</span></div>\n
LOCATION:Location Our Village 205 NE 2nd St Okeechobee\, FL 34972
UID:e.1131.22446
SEQUENCE:3
DTSTAMP:20260419T161644Z
URL:https://business.okeechobeebusiness.com/events/details/grand-opening-mission-united-22446
END:VEVENT

END:VCALENDAR
