BEGIN:VCALENDAR
VERSION:2.0
PRODID:-//ChamberMaster//Event Calendar 2.0//EN
METHOD:PUBLISH
X-PUBLISHED-TTL:P3D
REFRESH-INTERVAL:P3D
CALSCALE:GREGORIAN
BEGIN:VEVENT
DTSTART:20251114T170000Z
DTEND:20251114T180000Z
X-MICROSOFT-CDO-ALLDAYEVENT:FALSE
SUMMARY:Grand Opening- Title Pros
DESCRIPTION:Join us as we celebrate the Grand Opening of Title Pros of Florida\, LLC on Friday\, November 14 at 12:00 PM!\n\nHelp us officially welcome this new business to the Okeechobee community with a Chamber Ribbon Cutting\, light refreshments\, and the opportunity to meet the team behind the office.\n\nEvent Highlights:\n\n  Ribbon Cutting Ceremony at 12:00 PM\n\n  Meet the Title Pros team & learn about their closing and settlement services\n\n  Light refreshments\n\n  Photos with Chamber representatives and community partners\n\nDetails:\n\nDate: Friday\, November 14\n\nTime: 12:00 PM\n\nLocation: Title Pros of Florida\, LLC   202 NW 5th Street Okeechobee\, FL. 34872\n\nRSVP: No RSVP required   we welcome all community members and business partners to stop in!\n\nLet's show our support for this new local business and celebrate their investment in Okeechobee's growing business community. See you at noon!
X-ALT-DESC;FMTTYPE=text/html:<p data-end="489" data-start="192">Join us as we celebrate the Grand Opening of <strong data-end="267" data-start="237">Title Pros of Florida\, LLC</strong> on Friday<strong data-end="307" data-start="271">\, November 14 at 12:00 PM!</strong><br data-end="310" data-start="307" />\nHelp us officially welcome this new business to the Okeechobee community with a Chamber Ribbon Cutting\, light refreshments\, and the opportunity to meet the team behind the office.</p>\n\n<p data-end="737" data-start="491"><strong data-end="512" data-start="491">Event Highlights:</strong><br data-end="515" data-start="512" />\n&#127872\; Ribbon Cutting Ceremony at 12:00&nbsp\;PM<br data-end="556" data-start="553" />\n&#129309\; Meet the Title Pros team &amp\; learn about their closing and settlement services<br data-end="638" data-start="635" />\n&#129380\; Light refreshments<br />\n&#128248\; Photos with Chamber representatives and community partners</p>\n\n<p data-end="983" data-start="739"><strong data-end="751" data-start="739">Details:</strong><br data-end="754" data-start="751" />\n<strong data-end="763" data-start="754">Date:</strong> Friday\, November 14<br data-end="786" data-start="783" />\n<strong data-end="795" data-start="786">Time:</strong> 12:00 PM<br data-end="817" data-start="814" />\n<strong data-end="830" data-start="817">Location:</strong> Title Pros of Florida\, LLC &mdash\;&nbsp\;<span style="color: rgb(0\, 0\, 0)\; font-family: Aptos\, Aptos_EmbeddedFont\, Aptos_MSFontService\, Calibri\, Helvetica\, sans-serif\; font-size: 16px\;">202 NW 5</span><sup style="color: rgb(0\, 0\, 0)\; font-family: Aptos\, Aptos_EmbeddedFont\, Aptos_MSFontService\, Calibri\, Helvetica\, sans-serif\;">th</sup><span style="color: rgb(0\, 0\, 0)\; font-family: Aptos\, Aptos_EmbeddedFont\, Aptos_MSFontService\, Calibri\, Helvetica\, sans-serif\; font-size: 16px\;">&nbsp\;Street&nbsp\;</span><span style="color: rgb(0\, 0\, 0)\; font-family: Aptos\, Aptos_EmbeddedFont\, Aptos_MSFontService\, Calibri\, Helvetica\, sans-serif\; font-size: 16px\;">Okeechobee\, FL. 34872</span><br data-end="888" data-start="885" />\n<strong data-end="897" data-start="888">RSVP:</strong> No RSVP required &mdash\; we welcome all community members and business partners to stop in!</p>\n\n<p data-end="1131" data-start="985">Let&rsquo\;s show our support for this new local business and celebrate their investment in Okeechobee&rsquo\;s growing business community. <strong data-end="1131" data-start="1111">See you at noon!</strong></p>\n
LOCATION:202 NW 5th Street Okeechobee\, FL. 34872 (Near the property appraisers office)
UID:e.1131.22421
SEQUENCE:3
DTSTAMP:20260423T160602Z
URL:https://business.okeechobeebusiness.com/events/details/grand-opening-title-pros-22421
END:VEVENT

END:VCALENDAR
