BEGIN:VCALENDAR
VERSION:2.0
PRODID:-//ChamberMaster//Event Calendar 2.0//EN
METHOD:PUBLISH
X-PUBLISHED-TTL:P3D
REFRESH-INTERVAL:P3D
CALSCALE:GREGORIAN
BEGIN:VEVENT
DTSTART:20251118T160000Z
DTEND:20251118T180000Z
X-MICROSOFT-CDO-ALLDAYEVENT:FALSE
SUMMARY:Lake to Lake Regional Eco-Tourism Trail Community Meeting
DESCRIPTION:Join the Chamber of Commerce of Okeechobee County and the Florida Greenways & Trails Foundation for an informational meeting about the proposed Lake to Lake Regional Eco-Tourism Trail   a paved\, multi-use recreational trail connecting Lake Monroe to Lake Okeechobee.\n\nDuring this session\, attendees will:\n\n  Learn about the vision\, routes\, and eco-tourism potential of the Lake to Lake Trail  \n\n  Explore how the trail could benefit Okeechobee County's economy\, recreation\, and natural resources\n\n  Review proposed SUN Trail corridors under consideration by FDOT\n\n  Lunch: A complimentary deli lunch will be provided by the Florida Greenways & Trails Foundation
X-ALT-DESC;FMTTYPE=text/html:<p data-end="497" data-start="209">Join the <strong data-end="262" data-start="218">Chamber of Commerce of Okeechobee County</strong> and the <strong data-end="312" data-start="271">Florida Greenways &amp\; Trails Foundation</strong> for an informational meeting about the proposed <strong data-end="404" data-start="361">Lake to Lake Regional Eco-Tourism Trail</strong> &mdash\; a paved\, multi-use recreational trail connecting <strong data-end="471" data-start="456">Lake Monroe</strong> to <strong data-end="494" data-start="475">Lake Okeechobee</strong>.</p>\n\n<p data-end="799" data-start="499">During this session\, attendees will:<br data-end="538" data-start="535" />\n&bull\; Learn about the vision\, routes\, and eco-tourism potential of the Lake to Lake Trail &#127807\;<br data-end="629" data-start="626" />\n&bull\; Explore how the trail could benefit Okeechobee County&rsquo\;s economy\, recreation\, and natural resources<br data-end="732" data-start="729" />\n&bull\; Review proposed SUN Trail corridors under consideration by FDOT<br />\n&#129386\; <strong data-end="990" data-start="980">Lunch:</strong> A complimentary deli lunch will be provided by the <strong data-end="1083" data-start="1042">Florida Greenways &amp\; Trails Foundation</strong></p>\n
LOCATION:Date: Tuesday\, November 18\, 2025 Time: 11:00 AM 1:00 PM
UID:e.1131.22422
SEQUENCE:3
DTSTAMP:20260423T155403Z
URL:https://business.okeechobeebusiness.com/events/details/lake-to-lake-regional-eco-tourism-trail-community-meeting-22422
END:VEVENT

END:VCALENDAR
