BEGIN:VCALENDAR
VERSION:2.0
PRODID:-//ChamberMaster//Event Calendar 2.0//EN
METHOD:PUBLISH
X-PUBLISHED-TTL:P3D
REFRESH-INTERVAL:P3D
CALSCALE:GREGORIAN
BEGIN:VEVENT
DTSTART;VALUE=DATE:20250923
DTEND;VALUE=DATE:20250924
TRANSP:TRANSPARENT
X-MICROSOFT-CDO-ALLDAYEVENT:TRUE
SUMMARY:Lunch and Learn: Okeechobee FCA
DESCRIPTION:Join us for an inspiring Lunch & Learn hosted by Okeechobee County FCA. This event is a great opportunity to hear about the impact FCA is having in our schools\, on our fields\, and throughout the community. You'll also learn how you can get involved and be part of this meaningful ministry.\n\n  Date: Tuesday\, September 23\, 2025\n\n  Time: 11:30 AM   1:00 PM\n\n  Location: Downtown Venue\, 120 SW 7th Avenue\, Okeechobee\, FL. 34974\n\n  Lunch will be provided.\n\nCommunity members are encouraged to attend\, connect\, and discover how FCA is making a difference in Okeechobee. We look forward to seeing you there!
X-ALT-DESC;FMTTYPE=text/html:<p data-end="379" data-start="84"><strong data-end="159" data-start="84">Join us for an inspiring Lunch &amp\; Learn hosted by Okeechobee County FCA.</strong> This event is a great opportunity to hear about the impact FCA is having in our schools\, on our fields\, and throughout the community. You&rsquo\;ll also learn how you can get involved and be part of this meaningful ministry.</p>\n\n<p data-end="526" data-start="381">&#128197\; <strong data-end="393" data-start="384">Date:</strong> Tuesday\, September 23\, 2025<br data-end="424" data-start="421" />\n&#128343\; <strong data-end="436" data-start="427">Time:</strong> 11:30 AM &ndash\; 1:00 PM<br data-end="458" data-start="455" />\n&#128205\; <strong data-end="474" data-start="461">Location:</strong> Downtown Venue\, 120 SW 7th Avenue\, Okeechobee\, FL. 34974</p>\n\n<p data-end="556" data-start="528">&#127860\; Lunch will be provided.</p>\n\n<p data-end="708" data-start="558">Community members are encouraged to attend\, connect\, and discover how FCA is making a difference in Okeechobee. We look forward to seeing you there!</p>\n
LOCATION:Location: Downtown Venue\, 120 SW 7th Avenue\, Okeechobee\, FL. 34974
UID:e.1131.22269
SEQUENCE:3
DTSTAMP:20260423T185406Z
URL:https://business.okeechobeebusiness.com/events/details/lunch-and-learn-okeechobee-fca-22269
END:VEVENT

END:VCALENDAR
