BEGIN:VCALENDAR
VERSION:2.0
PRODID:-//ChamberMaster//Event Calendar 2.0//EN
METHOD:PUBLISH
X-PUBLISHED-TTL:P3D
REFRESH-INTERVAL:P3D
CALSCALE:GREGORIAN
BEGIN:VEVENT
DTSTART:20251111T150000Z
DTEND:20251111T163000Z
X-MICROSOFT-CDO-ALLDAYEVENT:FALSE
SUMMARY:Okeechobee Veterans Day Ceremony
DESCRIPTION:Join us on Veterans Day   Tuesday\, November 11 at 10:00 a.m. at Okeechobee City Veterans Park for a special ceremony dedicated to honoring the brave men and women who have served in our nation's armed forces.\n\nThis heartfelt community event will feature tributes\, guest speakers\, and moments of reflection to recognize the courage\, sacrifice\, and dedication of all veterans   past and present. Together\, we'll stand united in gratitude for those who have defended our freedoms and continue to serve our country with honor.
X-ALT-DESC;FMTTYPE=text/html:<p data-end="247" data-start="29">Join us on <strong data-end="93" data-start="40">Veterans Day &mdash\; Tuesday\, November 11 at 10:00 a.m.</strong> at <strong data-end="130" data-start="97">Okeechobee City Veterans Park</strong> for a special ceremony dedicated to honoring the brave men and women who have served in our nation&rsquo\;s armed forces.</p>\n\n<p data-end="563" data-start="249">This heartfelt community event will feature tributes\, guest speakers\, and moments of reflection to recognize the courage\, sacrifice\, and dedication of all veterans &mdash\; past and present. Together\, we&rsquo\;ll stand united in gratitude for those who have defended our freedoms and continue to serve our country with honor.</p>\n
LOCATION:Veterans Park
UID:e.1131.22424
SEQUENCE:3
DTSTAMP:20260423T160633Z
URL:https://business.okeechobeebusiness.com/events/details/okeechobee-veterans-day-ceremony-22424
END:VEVENT

END:VCALENDAR
