BEGIN:VCALENDAR
VERSION:2.0
PRODID:-//ChamberMaster//Event Calendar 2.0//EN
METHOD:PUBLISH
X-PUBLISHED-TTL:P3D
REFRESH-INTERVAL:P3D
CALSCALE:GREGORIAN
BEGIN:VEVENT
DTSTART:20290106T140000Z
DTEND:20290106T220000Z
X-MICROSOFT-CDO-ALLDAYEVENT:FALSE
SUMMARY:Open Gym Day
DESCRIPTION:Join us for our upcoming Open Gym Day and enjoy FREE entry all day long! This is our way of inviting the community to come check us out\, move your body\, and have some fun in a welcoming environment.\n\nBring a friend or come by yourself   everyone is welcome! We'll have exciting fitness competitions\, awesome giveaways\, free incentives\, and free drinks to keep you refreshed while you work out. Plus\, we'll have a snow cone vendor on-site to help you cool down and enjoy the day!\n\nNo pressure\, no commitment   just a great time\, good vibes\, and a chance to connect with your community.\n\nWe can't wait to see you there! ??
X-ALT-DESC;FMTTYPE=text/html:<p>Join us for our upcoming <strong>Open Gym Day</strong> and enjoy <strong>FREE entry all day long!</strong> This is our way of inviting the community to come check us out\, move your body\, and have some fun in a welcoming environment.</p>\n\n<p>Bring a friend or come by yourself &mdash\; everyone is welcome! We&rsquo\;ll have exciting <strong>fitness competitions</strong>\, awesome <strong>giveaways</strong>\, free incentives\, and <strong>free drinks</strong> to keep you refreshed while you work out. Plus\, we&rsquo\;ll have a <strong>snow cone vendor</strong> on-site to help you cool down and enjoy the day!</p>\n\n<p>No pressure\, no commitment &mdash\; just a great time\, good vibes\, and a chance to connect with your community.</p>\n\n<p>We can&rsquo\;t wait to see you there! ??</p>\n
LOCATION:3278 US-441\, Okeechobee\, FL 34974
UID:e.1131.22563
SEQUENCE:3
DTSTAMP:20260425T132609Z
URL:https://business.okeechobeebusiness.com/events/details/open-gym-day-01-06-2029-22563
END:VEVENT

END:VCALENDAR
