BEGIN:VCALENDAR
VERSION:2.0
PRODID:-//ChamberMaster//Event Calendar 2.0//EN
METHOD:PUBLISH
X-PUBLISHED-TTL:P3D
REFRESH-INTERVAL:P3D
CALSCALE:GREGORIAN
BEGIN:VEVENT
DTSTART:20260307T140000Z
DTEND:20260307T220000Z
X-MICROSOFT-CDO-ALLDAYEVENT:FALSE
SUMMARY:Open Gym Day
DESCRIPTION:Join us for our upcoming Open Gym Day and enjoy FREE entry all day long! This is our way of inviting the community to come check us out\, move your body\, and have some fun in a welcoming environment. Bring a friend or come by yourself   everyone is welcome! We'll have exciting fitness competitions\, awesome giveaways\, free incentives\, and free drinks to keep you refreshed while you work out. Plus\, we'll have a snow cone vendor on-site to help you cool down and enjoy the day! No pressure\, no commitment   just a great time\, good vibes\, and a chance to connect with your community.
X-ALT-DESC;FMTTYPE=text/html:Join us for our upcoming Open Gym Day and enjoy FREE entry all day long! This is our way of inviting the community to come check us out\, move your body\, and have some fun in a welcoming environment. Bring a friend or come by yourself &mdash\; everyone is welcome! We&rsquo\;ll have exciting fitness competitions\, awesome giveaways\, free incentives\, and free drinks to keep you refreshed while you work out. Plus\, we&rsquo\;ll have a snow cone vendor on-site to help you cool down and enjoy the day! No pressure\, no commitment &mdash\; just a great time\, good vibes\, and a chance to connect with your community.
LOCATION:3278 US-441 Okeechobee\, FL 34974 Workout Anytime Okeechobee
UID:e.1131.22525
SEQUENCE:3
DTSTAMP:20260423T111654Z
URL:https://business.okeechobeebusiness.com/events/details/open-gym-day-22525
END:VEVENT

END:VCALENDAR
