BEGIN:VCALENDAR
VERSION:2.0
PRODID:-//ChamberMaster//Event Calendar 2.0//EN
METHOD:PUBLISH
X-PUBLISHED-TTL:P3D
REFRESH-INTERVAL:P3D
CALSCALE:GREGORIAN
BEGIN:VEVENT
DTSTART:20250805T210000Z
DTEND:20250805T220000Z
X-MICROSOFT-CDO-ALLDAYEVENT:FALSE
SUMMARY:Regular City Council Meeting and Budget Workshop
DESCRIPTION:Regular City Council Meeting and Budget Workshop
X-ALT-DESC;FMTTYPE=text/html:Regular City Council Meeting and Budget Workshop
LOCATION:City Hall 55 SE 3rd AVE\, Rm 200 Okeechobee\, FL 34974
UID:e.1131.22251
SEQUENCE:3
DTSTAMP:20260423T202605Z
URL:https://business.okeechobeebusiness.com/events/details/regular-city-council-meeting-and-budget-workshop-08-05-2025-22251
END:VEVENT

END:VCALENDAR
