BEGIN:VCALENDAR
VERSION:2.0
PRODID:-//ChamberMaster//Event Calendar 2.0//EN
METHOD:PUBLISH
X-PUBLISHED-TTL:P3D
REFRESH-INTERVAL:P3D
CALSCALE:GREGORIAN
BEGIN:VEVENT
DTSTART:20250922T220000Z
DTEND:20250922T230000Z
X-MICROSOFT-CDO-ALLDAYEVENT:FALSE
SUMMARY:Regular City Council Meeting and Final Budget Public Hearing
DESCRIPTION:Regular City Council Meeting and Final Budget Public Hearing
X-ALT-DESC;FMTTYPE=text/html:Regular City Council Meeting and Final Budget Public Hearing
LOCATION:City Hall 55 SE 3rd Avenue\, Room 200 Okeechobee\, FL 34974
UID:e.1131.22265
SEQUENCE:3
DTSTAMP:20260423T185616Z
URL:https://business.okeechobeebusiness.com/events/details/regular-city-council-meeting-and-final-budget-public-hearing-22265
END:VEVENT

END:VCALENDAR
