BEGIN:VCALENDAR
VERSION:2.0
PRODID:-//ChamberMaster//Event Calendar 2.0//EN
METHOD:PUBLISH
X-PUBLISHED-TTL:P3D
REFRESH-INTERVAL:P3D
CALSCALE:GREGORIAN
BEGIN:VEVENT
DTSTART:20260207T123000Z
DTEND:20260207T143000Z
X-MICROSOFT-CDO-ALLDAYEVENT:FALSE
SUMMARY:Run the Rim Hybrid 5K
DESCRIPTION:Lace up your running shoes and join us for the First Annual Run the Rim 5K\, a one-of-a-kind event celebrating outdoor education\, fitness\, and community pride   all set along the beautiful Lake Okeechobee Scenic Trail also known as the Lost Trail!\n\nWhether you run in person or virtually\, this hybrid event invites participants of all ages to experience the beauty of Lake Okeechobee while supporting local businesses and tourism initiatives. Proceeds benefit future outdoor education programming and community development through the Okeechobee County Chamber of Commerce.\n\nEnjoy breathtaking views\, finisher medals\, T-shirts\, and plenty of small-town hospitality. Walk\, jog\, or run   the goal is to have fun and make a positive impact!
X-ALT-DESC;FMTTYPE=text/html:<p data-end="946" data-start="719">Lace up your running shoes and join us for the <strong data-end="797" data-start="766">First Annual Run the Rim 5K</strong>\, a one-of-a-kind event celebrating outdoor education\, fitness\, and community pride &mdash\; all set along the beautiful <strong data-end="943" data-start="911">Lake Okeechobee Scenic Trail also known as the Lost Trail</strong>!</p>\n\n<p data-end="1278" data-start="948">Whether you run in person or virtually\, this hybrid event invites participants of all ages to experience the beauty of Lake Okeechobee while supporting local businesses and tourism initiatives. Proceeds benefit future outdoor education programming and community development through the <strong data-end="1275" data-start="1234">Okeechobee County Chamber of Commerce</strong>.</p>\n\n<p data-end="1444" data-start="1280">Enjoy breathtaking views\, finisher medals\, T-shirts\, and plenty of small-town hospitality. Walk\, jog\, or run &mdash\; the goal is to have fun and make a positive impact!</p>\n
LOCATION:Location: Lake Okeechobee Scenic Trail Virtual Participation: February 7-14\, 2026 (Run anywhere!)
UID:e.1131.22416
SEQUENCE:3
DTSTAMP:20260423T112548Z
URL:https://business.okeechobeebusiness.com/events/details/run-the-rim-hybrid-5k-22416
END:VEVENT

END:VCALENDAR
