BEGIN:VCALENDAR
VERSION:2.0
PRODID:-//ChamberMaster//Event Calendar 2.0//EN
METHOD:PUBLISH
X-PUBLISHED-TTL:P3D
REFRESH-INTERVAL:P3D
CALSCALE:GREGORIAN
BEGIN:VEVENT
DTSTART:20260131T140000Z
DTEND:20260131T190000Z
X-MICROSOFT-CDO-ALLDAYEVENT:FALSE
SUMMARY:Sacred Heart Women’s club White Elephant Sale
DESCRIPTION:The Sacred Heart Women's Club will have a White Elephant Sale on Saturday\, January 31st\, 2026 from 9am until 2:30 pm. We will be offering gently used household items for sale. Come see what treasures you can find.
X-ALT-DESC;FMTTYPE=text/html:The Sacred Heart Women&rsquo\;s Club will have a White Elephant Sale on Saturday\, January 31st\, 2026 from 9am until 2:30 pm. We will be offering gently used household items for sale. Come see what treasures you can find.
LOCATION:901 SW sixth St\, Okeechobee\, FL
UID:e.1131.22445
SEQUENCE:3
DTSTAMP:20260419T162125Z
URL:https://business.okeechobeebusiness.com/events/details/sacred-heart-women-s-club-white-elephant-sale-22445
END:VEVENT

END:VCALENDAR
