BEGIN:VCALENDAR
VERSION:2.0
PRODID:-//ChamberMaster//Event Calendar 2.0//EN
METHOD:PUBLISH
X-PUBLISHED-TTL:P3D
REFRESH-INTERVAL:P3D
CALSCALE:GREGORIAN
BEGIN:VEVENT
DTSTART:20250925T120000Z
DTEND:20250925T120000Z
X-MICROSOFT-CDO-ALLDAYEVENT:FALSE
SUMMARY:Supervisor of Elections Building Dedication and Ribbon Cutting
DESCRIPTION:Join us for a special community celebration as the Okeechobee County Commissioners host the Supervisor of Elections Building Dedication and Ribbon Cutting. This event marks an important milestone for our county\, honoring the opening of the newly dedicated Alderman Building.\n\n  Date: Thursday\, September 25\, 2025\n\n  Time: 8:00 AM\n\n  Location: 307 NW 5th Avenue\, The Alderman Building\, Okeechobee\, FL\n\nCommunity members are encouraged to attend and show their support. Let's come together to celebrate progress\, growth\, and the future of Okeechobee!
X-ALT-DESC;FMTTYPE=text/html:<p data-end="422" data-start="142">Join us for a special community celebration as the Okeechobee County Commissioners host the <strong data-end="300" data-start="234">Supervisor of Elections Building Dedication and Ribbon Cutting</strong>. This event marks an important milestone for our county\, honoring the opening of the newly dedicated Alderman Building.</p>\n\n<p data-end="566" data-start="424">&#128197\; <strong data-end="436" data-start="427">Date:</strong> Thursday\, September 25\, 2025<br data-end="468" data-start="465" />\n&#128343\; <strong data-end="480" data-start="471">Time:</strong> 8:00 AM<br data-end="491" data-start="488" />\n&#128205\; <strong data-end="507" data-start="494">Location:</strong> 307 NW 5th Avenue\, The Alderman Building\, Okeechobee\, FL</p>\n\n<p data-end="717" data-start="568">Community members are encouraged to attend and show their support. Let&rsquo\;s come together to celebrate progress\, growth\, and the future of Okeechobee!</p>\n
LOCATION:Location: 307 NW 5th Avenue\, The Alderman Building\, Okeechobee\, FL
UID:e.1131.22268
SEQUENCE:3
DTSTAMP:20260423T185703Z
URL:https://business.okeechobeebusiness.com/events/details/supervisor-of-elections-building-dedication-and-ribbon-cutting-22268
END:VEVENT

END:VCALENDAR
