BEGIN:VCALENDAR
VERSION:2.0
PRODID:-//ChamberMaster//Event Calendar 2.0//EN
METHOD:PUBLISH
X-PUBLISHED-TTL:P3D
REFRESH-INTERVAL:P3D
CALSCALE:GREGORIAN
BEGIN:VEVENT
DTSTART:20260613T200000Z
DTEND:20260613T200000Z
X-MICROSOFT-CDO-ALLDAYEVENT:FALSE
SUMMARY:Taste of Okeechobee
DESCRIPTION:A community event where local restaurants partner with area businesses to showcase their food in storefront locations throughout Okeechobee. Attendees will visit participating locations\, sample dishes from different restaurants\, and vote to determine the best food in Okeechobee. This event brings businesses together\, highlights our local dining scene\, and creates a fun way for the community to support and celebrate Okeechobee's restaurants.
X-ALT-DESC;FMTTYPE=text/html:A community event where local restaurants partner with area businesses to showcase their food in storefront locations throughout Okeechobee. Attendees will visit participating locations\, sample dishes from different restaurants\, and vote to determine the best food in Okeechobee. This event brings businesses together\, highlights our local dining scene\, and creates a fun way for the community to support and celebrate Okeechobee&rsquo\;s restaurants.
LOCATION:All down Park Street
UID:e.1131.22671
SEQUENCE:3
DTSTAMP:20260423T135949Z
URL:https://business.okeechobeebusiness.com/events/details/taste-of-okeechobee-22671
END:VEVENT

END:VCALENDAR
