BEGIN:VCALENDAR
VERSION:2.0
PRODID:-//ChamberMaster//Event Calendar 2.0//EN
METHOD:PUBLISH
X-PUBLISHED-TTL:P3D
REFRESH-INTERVAL:P3D
CALSCALE:GREGORIAN
BEGIN:VEVENT
DTSTART:20250918T140000Z
DTEND:20250918T150000Z
X-MICROSOFT-CDO-ALLDAYEVENT:FALSE
SUMMARY:Technical Review Committee Meeting
DESCRIPTION:City of Okeechobee Technical Review Committee Meeting
X-ALT-DESC;FMTTYPE=text/html:City of Okeechobee Technical Review Committee Meeting
LOCATION:City Hall 55 SE 3rd Avenue\, Room 200 Okeechobee\, FL 34974
UID:e.1131.22264
SEQUENCE:3
DTSTAMP:20260423T185555Z
URL:https://business.okeechobeebusiness.com/events/details/technical-review-committee-meeting-09-18-2025-22264
END:VEVENT

END:VCALENDAR
