BEGIN:VCALENDAR
VERSION:2.0
PRODID:-//ChamberMaster//Event Calendar 2.0//EN
METHOD:PUBLISH
X-PUBLISHED-TTL:P3D
REFRESH-INTERVAL:P3D
CALSCALE:GREGORIAN
BEGIN:VEVENT
DTSTART:20250926T190000Z
DTEND:20250926T190000Z
X-MICROSOFT-CDO-ALLDAYEVENT:FALSE
SUMMARY:The Cattlemen's Market of Okeechobee Grand Opening
DESCRIPTION:Grand Opening Celebration   The Cattlemen's Market of Okeechobee  \n\nJoin us as we welcome The Cattlemen's Market of Okeechobee to the community with a special Grand Opening & Ribbon Cutting Ceremony!\n\n  Date: Friday\, September 26\n\n  Time: 3:00 PM\n\n  Location: 1849 NW 160th St. Okeechobee\, FL. 34972\n\nCome out to celebrate\, meet the Cattlemen's Market team\, and explore everything they have to offer. Enjoy networking\, light refreshments\, and the opportunity to support one of our newest Chamber members.\n\nWe look forward to seeing you there!
X-ALT-DESC;FMTTYPE=text/html:<p data-end="139" data-start="63"><strong data-end="137" data-start="63">&#127881\; Grand Opening Celebration &ndash\; The Cattlemen&rsquo\;s Market of Okeechobee &#127881\;</strong></p>\n\n<p data-end="278" data-start="141">Join us as we welcome <strong data-end="203" data-start="163">The Cattlemen&rsquo\;s Market of Okeechobee</strong> to the community with a special Grand Opening &amp\; Ribbon Cutting Ceremony!</p>\n\n<p data-end="381" data-start="280">&#128197\; <strong data-end="292" data-start="283">Date:</strong> Friday\, September 26<br data-end="318" data-start="315" />\n&#128350\; <strong data-end="330" data-start="321">Time:</strong> 3:00 PM<br data-end="341" data-start="338" />\n&#128205\; <strong data-end="357" data-start="344">Location:</strong> <span class="a_GcMg font-feature-liga-off font-feature-clig-off font-feature-calt-off text-decoration-none text-strikethrough-none" style="color: rgba(10\,34\,105\,var(--O42jJQ\,1))\; caret-color: rgb(10\, 34\, 105)\; --Ys-XuQ: none\; font-kerning: none\;">1849 NW 160</span><span class="a_GcMg font-feature-liga-off font-feature-clig-off font-feature-calt-off text-decoration-none text-strikethrough-none font-size-modifier vertical-align" style="color: rgba(10\,34\,105\,var(--O42jJQ\,1))\; caret-color: rgb(10\, 34\, 105)\; --Ys-XuQ: none\; font-kerning: none\; --A-HVVw: 0.6\; --PLq4ZA: 43\;">th</span><span class="a_GcMg font-feature-liga-off font-feature-clig-off font-feature-calt-off text-decoration-none text-strikethrough-none" style="color: rgba(10\,34\,105\,var(--O42jJQ\,1))\; caret-color: rgb(10\, 34\, 105)\; --Ys-XuQ: none\; font-kerning: none\;"> St. Okeechobee\, FL. 34972</span></p>\n\n<p data-end="588" data-start="383">Come out to celebrate\, meet the Cattlemen&rsquo\;s Market team\, and explore everything they have to offer. Enjoy networking\, light refreshments\, and the opportunity to support one of our newest Chamber members.</p>\n\n<p data-end="628" data-start="590">We look forward to seeing you there!</p>\n
LOCATION:1849 NW 160th St. Okeechobee\, FL. 34972
UID:e.1131.22267
SEQUENCE:3
DTSTAMP:20260423T185821Z
URL:https://business.okeechobeebusiness.com/events/details/the-cattlemen-s-market-of-okeechobee-grand-opening-22267
END:VEVENT

END:VCALENDAR
